BEGIN:VCALENDAR
VERSION:2.0
PRODID:-//Stiftung Konzeptuelle Kunst - ECPv6.15.17//NONSGML v1.0//EN
CALSCALE:GREGORIAN
METHOD:PUBLISH
X-ORIGINAL-URL:https://www.skk-soest.de/en
X-WR-CALDESC:Events for Stiftung Konzeptuelle Kunst
REFRESH-INTERVAL;VALUE=DURATION:PT1H
X-Robots-Tag:noindex
X-PUBLISHED-TTL:PT1H
BEGIN:VTIMEZONE
TZID:Europe/Berlin
BEGIN:DAYLIGHT
TZOFFSETFROM:+0100
TZOFFSETTO:+0200
TZNAME:CEST
DTSTART:20160327T010000
END:DAYLIGHT
BEGIN:STANDARD
TZOFFSETFROM:+0200
TZOFFSETTO:+0100
TZNAME:CET
DTSTART:20161030T010000
END:STANDARD
BEGIN:DAYLIGHT
TZOFFSETFROM:+0100
TZOFFSETTO:+0200
TZNAME:CEST
DTSTART:20170326T010000
END:DAYLIGHT
BEGIN:STANDARD
TZOFFSETFROM:+0200
TZOFFSETTO:+0100
TZNAME:CET
DTSTART:20171029T010000
END:STANDARD
BEGIN:DAYLIGHT
TZOFFSETFROM:+0100
TZOFFSETTO:+0200
TZNAME:CEST
DTSTART:20180325T010000
END:DAYLIGHT
BEGIN:STANDARD
TZOFFSETFROM:+0200
TZOFFSETTO:+0100
TZNAME:CET
DTSTART:20181028T010000
END:STANDARD
END:VTIMEZONE
BEGIN:VEVENT
DTSTART;TZID=Europe/Berlin:20170507T110000
DTEND;TZID=Europe/Berlin:20170813T170000
DTSTAMP:20260425T005512
CREATED:20170207T104319Z
LAST-MODIFIED:20170606T113237Z
UID:849-1494154800-1502643600@www.skk-soest.de
SUMMARY:{:de}Ausstellung | format{:}{:en}Exhibiton format{:}
DESCRIPTION:format \nFrom May 7th until August 13th the Conceptual Art Foundation with SCHROTH Collection exhibits „format“ at Museum Wilhelm Morgner. The exhibition is curated by Juliane Rogge MA. Conceived for the collector’s 70th birthday and 35th anniversary of SCHROTH Collection\, format provides an overview about the stringent but rich of facets artistic profile of roughly 380 works with international orientation. The collection focusses on concrete\, constructive and minimalistic art with a specific collector’s distinction. \n\nArties on display\n\n\nDouglas Allsop | Julieta Aranda | Jill Baroff | Aram Bartholl | Charles Bézie | Anne Blanchet | Hartmut Böhm | Nelson Boren | Daniel Buren | BURGHARD | Margit Calegari | Sarah Chilvers | Rudolf de Crignis | Thomas Deyle | Inge Dick | Jean-François Dubreuil | Leo Erb | Spencer Finch | Frank Gerritz | Alfred Gockel | Edgar Gutbub | Robert Hötzel | James Howell | IEPE | Richard Jauns | Alan Johnston | Werner Kausch | Imi Knoebel | Katja Kottmann | Lies Kraal | Jean Legros | Marco Maggi | Stefana McClure | Mike Meiré | Vera Molnar | François Morellet | Charles Mudry | Jan van Munster | Blinky Palermo | Vladimir Pavlov | Yves Popet | Josef Pozavan | Anton Quiring | Winston Roeth | Sanford Roth | Fred Sandback | Michael Schreiber | Klaus Staudt | Heiner Thiel | Ignacio Uriarte | Victor Vasarely | Pieter Vermeersch | Martin Willing | Joan Witek | Beat Zoderer\nExhibition\nMay 7th till August 13rd\, 2017ART ROOM SCHROTH in Musem Wilhelm Morgner\nThomästraße 1\, D-59494 SoestOpen\nTu. – Fr. 2 – 5 PM\nSa. + Su. 11 AM – 5 PM\n \n\nEröffnungsveranstaltung\n07. Mai 2017 \nFree entry! \n  \n \n\n\n 
URL:https://www.skk-soest.de/en/veranstaltung/ausstellung-format/
LOCATION:RAUM SCHROTH im Museum Wilhelm Morgner\, Thomästraße 1\, Soest\, NRW\, 59494\, Deutschland
CATEGORIES:Exhibition,Stiftung Konzeptuelle Kunst
ATTACH;FMTTYPE=image/jpeg:https://www.skk-soest.de/wp-content/uploads/FB-Titelbild-format-Kopie.jpg
ORGANIZER;CN="Stiftung Konzeptuelle Kunst":MAILTO:info@skk-soest.de
END:VEVENT
END:VCALENDAR