BEGIN:VCALENDAR
VERSION:2.0
PRODID:-//Stiftung Konzeptuelle Kunst - ECPv6.15.17//NONSGML v1.0//EN
CALSCALE:GREGORIAN
METHOD:PUBLISH
X-ORIGINAL-URL:https://www.skk-soest.de
X-WR-CALDESC:Veranstaltungen für Stiftung Konzeptuelle Kunst
REFRESH-INTERVAL;VALUE=DURATION:PT1H
X-Robots-Tag:noindex
X-PUBLISHED-TTL:PT1H
BEGIN:VTIMEZONE
TZID:Europe/Berlin
BEGIN:DAYLIGHT
TZOFFSETFROM:+0100
TZOFFSETTO:+0200
TZNAME:CEST
DTSTART:20150329T010000
END:DAYLIGHT
BEGIN:STANDARD
TZOFFSETFROM:+0200
TZOFFSETTO:+0100
TZNAME:CET
DTSTART:20151025T010000
END:STANDARD
BEGIN:DAYLIGHT
TZOFFSETFROM:+0100
TZOFFSETTO:+0200
TZNAME:CEST
DTSTART:20160327T010000
END:DAYLIGHT
BEGIN:STANDARD
TZOFFSETFROM:+0200
TZOFFSETTO:+0100
TZNAME:CET
DTSTART:20161030T010000
END:STANDARD
BEGIN:DAYLIGHT
TZOFFSETFROM:+0100
TZOFFSETTO:+0200
TZNAME:CEST
DTSTART:20170326T010000
END:DAYLIGHT
BEGIN:STANDARD
TZOFFSETFROM:+0200
TZOFFSETTO:+0100
TZNAME:CET
DTSTART:20171029T010000
END:STANDARD
END:VTIMEZONE
BEGIN:VEVENT
DTSTART;TZID=Europe/Berlin:20160521T150000
DTEND;TZID=Europe/Berlin:20160521T180000
DTSTAMP:20260425T201723
CREATED:20160321T124510Z
LAST-MODIFIED:20160407T115215Z
UID:147-1463842800-1463853600@www.skk-soest.de
SUMMARY:Eröffnung RAUM SCHROTH im Museum Wilhelm Morgner
DESCRIPTION:Eröffnung RAUM SCHROTH im Museum Wilhelm Morgner\, Soest \nMit der Wiedereröffnung des nunmehr durchklimatisierten und erweiterten Soester Kunstmuseums bespielt die Stiftung Konzeptuelle Kunst mit der SAMMLUNG SCHROTH ab sofort und dauerhaft einen Teil des Museums.\nIm RAUM SCHROTH werden zukünftig im Rhythmus von ca. 3 Monaten wechselnde Ausstellungen der konkreten\, konstruktiven und konzeptuellen Kunst gezeigt. \nDie SAMMLUNG SCHROTH gilt als eine der wichtigsten Sammlungen mit konkreten\, konstruktiven und konzeptuellen Arbeiten in Deutschland. Ihre nun dauerhafte Präsenz mit Wechselausstellungen startet mit Werken die auf geometrischer bzw. mathematisch-naturwissenschaftlicher Grundlage basieren. \n  \nRAUM SCHROTH im Museum Wilhelm Morgner\nThomästraße 1\, 59494 Soest\nAnreise \nÖffnungszeiten\nDienstag – Freitag 14:00 – 17:00 Uhr\nSamstag + Sonntag 11:00 – 17:00 Uhr \n  \n   \n \n 
URL:https://www.skk-soest.de/veranstaltung/neueroeffnung-raum-schroth-im-museum-wilhelm-morgner/
LOCATION:RAUM SCHROTH im Museum Wilhelm Morgner\, Thomästraße 1\, Soest\, NRW\, 59494\, Deutschland
CATEGORIES:Stiftung Konzeptuelle Kunst
ATTACH;FMTTYPE=image/jpeg:https://www.skk-soest.de/wp-content/uploads/Logo-Stadt-MWM-SKK-Sammlung.jpg
ORGANIZER;CN="Stiftung Konzeptuelle Kunst":MAILTO:info@skk-soest.de
END:VEVENT
END:VCALENDAR