BEGIN:VCALENDAR
VERSION:2.0
PRODID:-//Stiftung Konzeptuelle Kunst - ECPv6.15.17//NONSGML v1.0//EN
CALSCALE:GREGORIAN
METHOD:PUBLISH
X-WR-CALNAME:Stiftung Konzeptuelle Kunst
X-ORIGINAL-URL:https://www.skk-soest.de
X-WR-CALDESC:Veranstaltungen für Stiftung Konzeptuelle Kunst
REFRESH-INTERVAL;VALUE=DURATION:PT1H
X-Robots-Tag:noindex
X-PUBLISHED-TTL:PT1H
BEGIN:VTIMEZONE
TZID:Europe/Berlin
BEGIN:DAYLIGHT
TZOFFSETFROM:+0100
TZOFFSETTO:+0200
TZNAME:CEST
DTSTART:20150329T010000
END:DAYLIGHT
BEGIN:STANDARD
TZOFFSETFROM:+0200
TZOFFSETTO:+0100
TZNAME:CET
DTSTART:20151025T010000
END:STANDARD
BEGIN:DAYLIGHT
TZOFFSETFROM:+0100
TZOFFSETTO:+0200
TZNAME:CEST
DTSTART:20160327T010000
END:DAYLIGHT
BEGIN:STANDARD
TZOFFSETFROM:+0200
TZOFFSETTO:+0100
TZNAME:CET
DTSTART:20161030T010000
END:STANDARD
BEGIN:DAYLIGHT
TZOFFSETFROM:+0100
TZOFFSETTO:+0200
TZNAME:CEST
DTSTART:20170326T010000
END:DAYLIGHT
BEGIN:STANDARD
TZOFFSETFROM:+0200
TZOFFSETTO:+0100
TZNAME:CET
DTSTART:20171029T010000
END:STANDARD
END:VTIMEZONE
BEGIN:VEVENT
DTSTART;TZID=Europe/Berlin:20160522T110000
DTEND;TZID=Europe/Berlin:20160918T170000
DTSTAMP:20260425T134705
CREATED:20160321T165523Z
LAST-MODIFIED:20160720T131417Z
UID:176-1463914800-1474218000@www.skk-soest.de
SUMMARY:Ausstellung | KONSTRUKTION - CONSTRUCTION
DESCRIPTION:KONSTRUKTION – CONSTRUCTION \nEröffnungsausstellung RAUM SCHROTH im Museum Wilhelm Morgner\, Soest. \nMit der Wiedereröffnung des nunmehr durchklimatisierten und erweiterten Soester Kunstmuseums bespielt die Stiftung Konzeptuelle Kunst mit der SAMMLUNG SCHROTH ab sofort und dauerhaft den RAUM SCHROTH.\nEs werden zukünftig im Rhythmus von ca. 3 Monaten wechselnde Ausstellungen der konkreten\, konstruktiven und konzeptuellen Kunst gezeigt. \nIn der Eröffnungsausstellung werden Werke folgender Künstler*innen vertreten sein:\nDouglas Allsop (GB) | Jill Baroff (USA) | Hellmut Bruch (AT) | Jean d’Imbleval (FR) | Frank Gerritz (DE) | Vanessa Henn (DE) | James Howell (USA) | Markus Leitsch (AT) | François Morellet (FR) | Reinoud Oudshoorn (NL) | Antoine Perrot (FR) | Anton Quiring (DE) | Erich Reusch (DE) | Dirk Richter (DE) | Maarit Salolainen (SF) | Annette Sauermann (DE) | Bosse Sudenburg (DE) |  Heiner Thiel (DE) | Jan van Munster (NL) | Peter Weber (DE) | Joan WItek (USA) | Beat Zoderer (CH) \n\n\n\n		\n				\n						\n			\n				\n			\n		\n							\n			\n				\n						\n			\n				\n			\n		\n							\n			\n				\n						\n			\n				\n			\n		\n							\n			\n				\n						\n			\n				\n			\n		\n							\n			\n				\n						\n			\n				\n			\n		\n							\n			\n				\n						\n			\n				\n			\n		\n							\n			\n				\n						\n			\n				\n			\n		\n							\n			\n				\n						\n			\n				\n			\n		\n							\n			\n				\n						\n			\n				\n			\n		\n							\n			\n				\n						\n			\n				\n			\n		\n							\n			\n				\n						\n			\n				\n			\n		\n							\n			\n				\n						\n			\n				\n			\n		\n							\n			\n				\n						\n			\n				\n			\n		\n							\n			\n				\n						\n			\n				\n			\n		\n							\n			\n				\n						\n			\n				\n			\n		\n							\n			\n				\n						\n			\n				\n			\n		\n							\n			\n				\n						\n			\n				\n			\n		\n							\n			\n				\n						\n			\n				\n			\n		\n							\n			\n				\n						\n			\n				\n			\n		\n							\n			\n				\n						\n			\n				\n			\n		\n							\n			\n				\n						\n			\n				\n			\n		\n							\n			\n				\n						\n			\n				\n			\n		\n							\n			\n	\n	\n\n		\n		[Zeige eine Slideshow]\n\n	\n	\n		\n			\n \nRAUM SCHROTH im Museum Wilhelm Morgner\nThomästraße 1\, 59494 Soest\nAnreise \nÖffnungszeiten\n21. Mai 2016 15:00 – 18:00 Uhr\n22. Mai 2016 11:00 – 18:00 Uhr\ndanach\nDienstag – Freitag 14:00 – 17:00 Uhr\nSamstag + Sonntag 11:00 – 17:00 Uhr \n  \n   \n \n 
URL:https://www.skk-soest.de/veranstaltung/eroeffnungsausstellung-konstruktion-construction/
LOCATION:RAUM SCHROTH im Museum Wilhelm Morgner\, Thomästraße 1\, Soest\, NRW\, 59494\, Deutschland
CATEGORIES:Ausstellungen,Stiftung Konzeptuelle Kunst
ATTACH;FMTTYPE=image/jpeg:https://www.skk-soest.de/wp-content/uploads/Anzeige-SKK-20160317-Bruch-150.jpg
ORGANIZER;CN="Stiftung Konzeptuelle Kunst":MAILTO:info@skk-soest.de
END:VEVENT
BEGIN:VEVENT
DTSTART;TZID=Europe/Berlin:20160918T150000
DTEND;TZID=Europe/Berlin:20160918T170000
DTSTAMP:20260425T134705
CREATED:20160602T141316Z
LAST-MODIFIED:20240110T142456Z
UID:242-1474210800-1474218000@www.skk-soest.de
SUMMARY:Finissage mit dem Künstler Dirk Richter und Führung mit dem Sammler Carl-Jürgen Schroth
DESCRIPTION:Die erste Ausstellung im neuen RAUM SCHROTH im Museum Wilhelm Morgner endet am kommenden Sonntag ab 15:00 Uhr mit einer Finissage unter Beteiligung des Leipziger Künstlers Dirk Richter. \nDirk Richter – TRAUM – Holzkonstruktion – 2014 – 55 x 115 x 52 cm\nDer Künstler ist mit 2 Arbeiten in der Ausstellung vertreten. Diese Arbeiten aus Holz mit Acrylfarbe entstammen der Werkgruppe in der Dirk Richter rankenartige 3D-Gebilde aus dem Volumen innerhalb unterschiedlicher Rechteckformen entwickelt\, quasi die Linie in den Raum bringt. Das Gesamtwerk des Künstlers bezieht sich auch in anderen Werkgruppen auf dieses Thema: Die Linie im Raum. Anhand von Beispielen und Erklärungen über seine Gedanken und künstlerische Vorgehensweise wird Dirk Richter zu seinem Werk referieren. 1966 in Leipzig geboren und auch heute dort lebend und arbeitend\, begann er seine Ausbildung 1990-1996 mit dem Studium Plastik/Bildhauerei an der HfBK Dresden\, seit 1993 in der Fachklasse Prof. Ursula Sax und Jozef Legrande. Danach 2 Jahre Meisterschüler bei Prof. Sax. Seit 2003 Lehrauftrag für plastisches Gestalten/Zeichnen. (ABTW Leipzig\, Gestalterausbildung). \nÜber seine künstlerischen Prozesse sagt Dirk Richter: „Der Beginn ist das Zeichnen vor der Natur\, wobei die Assoziationen zum Gesehenen nach und nach das Abbild verdrängen.\nIm Atelier werden die Motive in größeren Formaten neu formuliert\, wobei die vor Ort entstandenen Zeichnungen und Skizzen mehr Gedankenstützen als Vorlagen sind.\nIch konzentriere mich nun auch vielmehr auf den Rhythmus der Formen. Verschiedene auch unkonventionelle Zeichenwerkzeuge und Techniken werden auf ihre Eignung getestet\, spontan und flüssig meine Ideen zu fixieren.\nJetzt können auch schon erste Werkskizzen für eine dreidimensionale Umsetzung entstehen\, was zur dritten Stufe der Auseinandersetzung mit dem Thema führt.“ \nIm Anschluss an die ca. 45 Minuten dauernde Präsentation führen der Künstler und der Sammler Carl-Jürgen Schroth letztmalig durch diese Ausstellung. Die Führung wird ca. 1 Stunde dauern. Bedingt durch die Ausstellungsarchitektur ist die Teilnehmerzahl auf 25 beschränkt\, daher wird um Anmeldung per eMail an rsvp@skk-soest.de oder unter der Telefonnummer 02921 14177 gebeten. Kosten für die Führung € 4\,-/Person zuzüglich Museumseintritt (normal € 2\,-/Person). Jugendliche bis 16 Jahre frei. Für Verzögerungen bitten die Veranstalter jetzt schon um Verständnis.
URL:https://www.skk-soest.de/veranstaltung/fuehrung-durch-den-sammler-carl-juergen-schroth-6/
LOCATION:RAUM SCHROTH im Museum Wilhelm Morgner\, Thomästraße 1\, Soest\, NRW\, 59494\, Deutschland
CATEGORIES:Stiftung Konzeptuelle Kunst
ATTACH;FMTTYPE=image/jpeg:https://www.skk-soest.de/wp-content/uploads/CJS-vor-Frank-Gerritz-Yves-Popet-PhC-Sebastian-Kempa-3457-x-2832-klein-604x270.jpg
ORGANIZER;CN="Stiftung Konzeptuelle Kunst":MAILTO:info@skk-soest.de
END:VEVENT
END:VCALENDAR