BEGIN:VCALENDAR
VERSION:2.0
PRODID:-//Stiftung Konzeptuelle Kunst - ECPv6.15.17//NONSGML v1.0//EN
CALSCALE:GREGORIAN
METHOD:PUBLISH
X-WR-CALNAME:Stiftung Konzeptuelle Kunst
X-ORIGINAL-URL:https://www.skk-soest.de
X-WR-CALDESC:Veranstaltungen für Stiftung Konzeptuelle Kunst
REFRESH-INTERVAL;VALUE=DURATION:PT1H
X-Robots-Tag:noindex
X-PUBLISHED-TTL:PT1H
BEGIN:VTIMEZONE
TZID:Europe/Berlin
BEGIN:DAYLIGHT
TZOFFSETFROM:+0100
TZOFFSETTO:+0200
TZNAME:CEST
DTSTART:20150329T010000
END:DAYLIGHT
BEGIN:STANDARD
TZOFFSETFROM:+0200
TZOFFSETTO:+0100
TZNAME:CET
DTSTART:20151025T010000
END:STANDARD
BEGIN:DAYLIGHT
TZOFFSETFROM:+0100
TZOFFSETTO:+0200
TZNAME:CEST
DTSTART:20160327T010000
END:DAYLIGHT
BEGIN:STANDARD
TZOFFSETFROM:+0200
TZOFFSETTO:+0100
TZNAME:CET
DTSTART:20161030T010000
END:STANDARD
BEGIN:DAYLIGHT
TZOFFSETFROM:+0100
TZOFFSETTO:+0200
TZNAME:CEST
DTSTART:20170326T010000
END:DAYLIGHT
BEGIN:STANDARD
TZOFFSETFROM:+0200
TZOFFSETTO:+0100
TZNAME:CET
DTSTART:20171029T010000
END:STANDARD
BEGIN:DAYLIGHT
TZOFFSETFROM:+0100
TZOFFSETTO:+0200
TZNAME:CEST
DTSTART:20180325T010000
END:DAYLIGHT
BEGIN:STANDARD
TZOFFSETFROM:+0200
TZOFFSETTO:+0100
TZNAME:CET
DTSTART:20181028T010000
END:STANDARD
END:VTIMEZONE
BEGIN:VEVENT
DTSTART;TZID=Europe/Berlin:20160924T110000
DTEND;TZID=Europe/Berlin:20170104T170000
DTSTAMP:20260425T134702
CREATED:20160401T103121Z
LAST-MODIFIED:20161116T112959Z
UID:201-1474714800-1483549200@www.skk-soest.de
SUMMARY:{:de}Ausstellung | LIGHT FIELD{:}{:en}Exhibition | LIGHT FIELD{:}
DESCRIPTION:LIGHT FIELD\nAnne Blanchet + James Howell \nRaum\, Licht und die Grenzen des Sichtbaren sind gemeinsame Interessen und Merkmale der Werke dieser beiden Künstler\, die eine langjährige Künstlerfreundschaft verbindet. \nDie nichtfarbigen transluszenten Acrylglasarbeiten Anne Blanchets fangen Licht ein und leiten\, reflektieren\, bilden mit entstehenden Schatten eine vermeintliche Dreidimensionalität.\nJames Howells Arbeiten Acryl auf Leinwand irritieren den Betrachter durch ihren subtilen Grauverlauf: Illusion oder Wirklichkeit? \nEröffnung 24.09.2016\, 17:00 Uhr \nRAUM SCHROTH im Museum Wilhelm Morgner\nThomästraße 1\, 59494 Soest\nAnreise \nÖffnungszeiten\nDienstag – Freitag 14:00 – 17:00 Uhr\nSamstag + Sonntag 11:00 – 17:00 Uhr \n   
URL:https://www.skk-soest.de/veranstaltung/light-field/
LOCATION:RAUM SCHROTH im Museum Wilhelm Morgner\, Thomästraße 1\, Soest\, NRW\, 59494\, Deutschland
CATEGORIES:Ausstellungen,Stiftung Konzeptuelle Kunst
ATTACH;FMTTYPE=image/jpeg:https://www.skk-soest.de/wp-content/uploads/Blanchet-Anne-CCCCI-PhC-Anne-Blanchet-6496-x-6496-klein-scaled.jpg
ORGANIZER;CN="Stiftung Konzeptuelle Kunst":MAILTO:info@skk-soest.de
END:VEVENT
END:VCALENDAR