BEGIN:VCALENDAR
VERSION:2.0
PRODID:-//Stiftung Konzeptuelle Kunst - ECPv6.15.17//NONSGML v1.0//EN
CALSCALE:GREGORIAN
METHOD:PUBLISH
X-ORIGINAL-URL:https://www.skk-soest.de
X-WR-CALDESC:Veranstaltungen für Stiftung Konzeptuelle Kunst
REFRESH-INTERVAL;VALUE=DURATION:PT1H
X-Robots-Tag:noindex
X-PUBLISHED-TTL:PT1H
BEGIN:VTIMEZONE
TZID:Europe/Berlin
BEGIN:DAYLIGHT
TZOFFSETFROM:+0100
TZOFFSETTO:+0200
TZNAME:CEST
DTSTART:20160327T010000
END:DAYLIGHT
BEGIN:STANDARD
TZOFFSETFROM:+0200
TZOFFSETTO:+0100
TZNAME:CET
DTSTART:20161030T010000
END:STANDARD
BEGIN:DAYLIGHT
TZOFFSETFROM:+0100
TZOFFSETTO:+0200
TZNAME:CEST
DTSTART:20170326T010000
END:DAYLIGHT
BEGIN:STANDARD
TZOFFSETFROM:+0200
TZOFFSETTO:+0100
TZNAME:CET
DTSTART:20171029T010000
END:STANDARD
BEGIN:DAYLIGHT
TZOFFSETFROM:+0100
TZOFFSETTO:+0200
TZNAME:CEST
DTSTART:20180325T010000
END:DAYLIGHT
BEGIN:STANDARD
TZOFFSETFROM:+0200
TZOFFSETTO:+0100
TZNAME:CET
DTSTART:20181028T010000
END:STANDARD
END:VTIMEZONE
BEGIN:VEVENT
DTSTART;TZID=Europe/Berlin:20170114T110000
DTEND;TZID=Europe/Berlin:20170423T170000
DTSTAMP:20260425T054952
CREATED:20160401T105203Z
LAST-MODIFIED:20170109T164300Z
UID:203-1484391600-1492966800@www.skk-soest.de
SUMMARY:Ausstellung | HEINER THIEL
DESCRIPTION:HEINER THIEL Werkschau 40 Jahre \nZum 60. Geburtstag des Künstlers kuratiert sein Freund Michael Post eine  umfassende Ausstellung mit Arbeiten aus der SAMMLUNG SCHROTH. \nDie Metallreliefs Heiner Thiels haben dem Sammler Carl-Jürgen Schroth um 1990 herum den wesentlichen Anstoß zum sammeln konkreter und konstruktiver Kunst gegeben. Es werden frühe Stahlreliefs\, Neonarbeiten\, ein Teil seiner Multiples und Exponate aus seiner aktuellen Werkgruppe eloxierter Aluminiumarbeiten gezeigt. \nEröffnungsveranstaltung\n14. Januar 2017\, 17:00 Uhr \nAusstellungszeitraum\n14. Januar – 23. April 2017 \nRaum Schroth im Museum Wilhelm Morgner\nThomästraße 1\, 59494 Soest\nAnreise \nÖffnungszeiten\nDienstag – Freitag 14:00 – 17:00 Uhr\nSamstag + Sonntag 11:00 – 17:00 Uhr \nEintritt frei! \n   
URL:https://www.skk-soest.de/veranstaltung/heiner-thiel/
LOCATION:RAUM SCHROTH im Museum Wilhelm Morgner\, Thomästraße 1\, Soest\, NRW\, 59494\, Deutschland
CATEGORIES:Ausstellungen,Stiftung Konzeptuelle Kunst
ATTACH;FMTTYPE=image/jpeg:https://www.skk-soest.de/wp-content/uploads/wvz615_4C_weiß-klein.jpg
ORGANIZER;CN="Stiftung Konzeptuelle Kunst":MAILTO:info@skk-soest.de
END:VEVENT
END:VCALENDAR