BEGIN:VCALENDAR
VERSION:2.0
PRODID:-//Stiftung Konzeptuelle Kunst - ECPv6.15.17//NONSGML v1.0//EN
CALSCALE:GREGORIAN
METHOD:PUBLISH
X-ORIGINAL-URL:https://www.skk-soest.de
X-WR-CALDESC:Veranstaltungen für Stiftung Konzeptuelle Kunst
REFRESH-INTERVAL;VALUE=DURATION:PT1H
X-Robots-Tag:noindex
X-PUBLISHED-TTL:PT1H
BEGIN:VTIMEZONE
TZID:Europe/Berlin
BEGIN:DAYLIGHT
TZOFFSETFROM:+0100
TZOFFSETTO:+0200
TZNAME:CEST
DTSTART:20160327T010000
END:DAYLIGHT
BEGIN:STANDARD
TZOFFSETFROM:+0200
TZOFFSETTO:+0100
TZNAME:CET
DTSTART:20161030T010000
END:STANDARD
BEGIN:DAYLIGHT
TZOFFSETFROM:+0100
TZOFFSETTO:+0200
TZNAME:CEST
DTSTART:20170326T010000
END:DAYLIGHT
BEGIN:STANDARD
TZOFFSETFROM:+0200
TZOFFSETTO:+0100
TZNAME:CET
DTSTART:20171029T010000
END:STANDARD
BEGIN:DAYLIGHT
TZOFFSETFROM:+0100
TZOFFSETTO:+0200
TZNAME:CEST
DTSTART:20180325T010000
END:DAYLIGHT
BEGIN:STANDARD
TZOFFSETFROM:+0200
TZOFFSETTO:+0100
TZNAME:CET
DTSTART:20181028T010000
END:STANDARD
END:VTIMEZONE
BEGIN:VEVENT
DTSTART;TZID=Europe/Berlin:20170826T110000
DTEND;TZID=Europe/Berlin:20171119T170000
DTSTAMP:20260424T174023
CREATED:20170207T124747Z
LAST-MODIFIED:20170814T115547Z
UID:858-1503745200-1511110800@www.skk-soest.de
SUMMARY:Ausstellung | Hellweg Konkret: Gäste Konkret
DESCRIPTION:Hellweg Konkret: Gäste Konkret\n \nDas Hellweg Konkret Projekt geht in die zweite Runde. Insgesamt 23 Künstler*innen aus Deutschland und Frankreich werden in dieser Ausstellung ca. 60 Arbeiten zeigen. Darunter sind großformatige Arbeiten ebenso vertreten wie relativ kleinformatige\, die aber in ihrer Wirkung keineswegs „klein“ sind. Auch sind recht farbintensive Arbeiten in dieser Ausstellung zu finden\, genauso zurückhaltende\, in ihrer Wirkung deutlich intimere Arbeiten. Der „Appendix“ wird durch eine lichtskulpturale Installation besonders in Szene gesetzt. Mehr zu Rahmenprogramm und Hellweg Konkret finden sie auf der Webseite von Hellweg Konkret. \nAusgestellte Künstler\nWolfgang Berndt | Nicholas Bodde | Beni Cohen-Or | Christoph Dahlhausen | Ursula Lisa Deventer | Patrick Deventer | Wolf Ebener | Dagmar Hagemann | Fritz Heerz | Ingrid Hornef | Gerhard Hotter | Ute Köngeter | Karl Peter Kremer | Walter Kreutzberg | Jo Kuhn | Dagmar Lutz | Tom Mosley | Otto Nemitz | László Ottó | Joachim Röder | Karl Georg Schmidt | Gertrud Maria Viegener | Jean-Pierre Viot | Martin Wörn \nDer Eintritt ins Museum selbst ist für das Morgner-Jahr 2017 frei!* Wir freuen uns auf Ihren Besuch! \nDie Ausstellung läuft bis zum 19.11.2017 und ist eine Doppelausstellung. Hellweg Konkret: Die kristalline Welt des K. G. Schmidt in den Westfälischen Salzwelten\, Bad Sassendorf\, wird am 7.9.2017 um 19:30 Uhr eröffnet. \nEröffnungsveranstaltung\n26. August 2017\, 17 Uhr \nAusstellungszeitraum\n26. August  – 19. November 2017 \nRaum Schroth und Hans Kaiser Raum im Museum Wilhelm Morgner\nThomästraße 1\, 59494 Soest\nAnreise \nÖffnungszeiten\nDienstag – Freitag 14:00 – 17:00 Uhr\nSamstag + Sonntag 11:00 – 17:00 Uhr \nEintritt frei! \n  \n \n(*Sonderveranstaltungen und Führungen ausgenommen!)
URL:https://www.skk-soest.de/veranstaltung/ausstellung-hellweg-konkret-gaeste-konkret/
LOCATION:RAUM SCHROTH im Museum Wilhelm Morgner\, Thomästraße 1\, Soest\, NRW\, 59494\, Deutschland
CATEGORIES:Ausstellungen,Stiftung Konzeptuelle Kunst
ATTACH;FMTTYPE=image/jpeg:https://www.skk-soest.de/wp-content/uploads/Jo-Kuhn-©-CJS-3-scaled.jpg
ORGANIZER;CN="Stiftung Konzeptuelle Kunst":MAILTO:info@skk-soest.de
END:VEVENT
END:VCALENDAR