BEGIN:VCALENDAR
VERSION:2.0
PRODID:-//Stiftung Konzeptuelle Kunst - ECPv6.15.17//NONSGML v1.0//EN
CALSCALE:GREGORIAN
METHOD:PUBLISH
X-ORIGINAL-URL:https://www.skk-soest.de
X-WR-CALDESC:Veranstaltungen für Stiftung Konzeptuelle Kunst
REFRESH-INTERVAL;VALUE=DURATION:PT1H
X-Robots-Tag:noindex
X-PUBLISHED-TTL:PT1H
BEGIN:VTIMEZONE
TZID:Europe/Berlin
BEGIN:DAYLIGHT
TZOFFSETFROM:+0100
TZOFFSETTO:+0200
TZNAME:CEST
DTSTART:20160327T010000
END:DAYLIGHT
BEGIN:STANDARD
TZOFFSETFROM:+0200
TZOFFSETTO:+0100
TZNAME:CET
DTSTART:20161030T010000
END:STANDARD
BEGIN:DAYLIGHT
TZOFFSETFROM:+0100
TZOFFSETTO:+0200
TZNAME:CEST
DTSTART:20170326T010000
END:DAYLIGHT
BEGIN:STANDARD
TZOFFSETFROM:+0200
TZOFFSETTO:+0100
TZNAME:CET
DTSTART:20171029T010000
END:STANDARD
BEGIN:DAYLIGHT
TZOFFSETFROM:+0100
TZOFFSETTO:+0200
TZNAME:CEST
DTSTART:20180325T010000
END:DAYLIGHT
BEGIN:STANDARD
TZOFFSETFROM:+0200
TZOFFSETTO:+0100
TZNAME:CET
DTSTART:20181028T010000
END:STANDARD
BEGIN:DAYLIGHT
TZOFFSETFROM:+0100
TZOFFSETTO:+0200
TZNAME:CEST
DTSTART:20190331T010000
END:DAYLIGHT
BEGIN:STANDARD
TZOFFSETFROM:+0200
TZOFFSETTO:+0100
TZNAME:CET
DTSTART:20191027T010000
END:STANDARD
END:VTIMEZONE
BEGIN:VEVENT
DTSTART;VALUE=DATE:20171202
DTEND;VALUE=DATE:20180305
DTSTAMP:20260424T100516
CREATED:20170207T133037Z
LAST-MODIFIED:20240117T135928Z
UID:865-1512172800-1520207999@www.skk-soest.de
SUMMARY:{:de}Ausstellung | painting black{:}{:en}Exhibition | painting black{:}
DESCRIPTION:{:de}painting black\n \nDie Nicht-Farbe Schwarz gilt als Erzfeind des Malers. Der Kampf mit dem Antagonisten oder die kontemplative Meditation sind Antworten auf diese Herausforderung. \nDie Nicht-Farbe Schwarz gilt als Erzfeind des Malers. Der Kampf mit dem Antagonisten oder die kontemplative Meditation sind Antworten auf diese Herausforderung. Der Maler Ivo Ringe hat als Kurator die Ergebnisse von 42 internationalen Künstler*innen der neuen Konkreten Kunst aus 10 Nationen Europas und den USA\, die sich ins Schwarze vertieft haben\, zusammengestellt. Nach Nationen gelistet finden sich in der Ausstellung 2 Künstler aus Belgien\, je 1 Schweiz-Amerikaner\, Spanier\, Ungar\, Italiener und Schwede\, 2 Niederländer sowie 2 Franzosen\, 8 Briten\, 10 US-Amerikaner und 13 Deutsche Künstler*innen wieder. 5 Arbeiten kommen direkt aus der SAMMLUNG SCHROTH. \nAusgestellte Künstler:\nTim Allen | Stefan Annerel | Katrina Blannin | Joe Barnes | Kate Beck | Mats Bergquist | Andrew Bick | Alain Biltereyst | Britta Bogers | Joaquim Chancho | Philippe Chitarrini | Vincent Como | Deb Covell | Rudolf de Crignis | Matthew Deleget | Edgar Diehl | Alan Ebnother | Rupert Eder | Mark Francis | Frank Gerritz | Jon Groom | Alison Hall | Mark Harrington | Michael Jäger | Raymund Kaiser | Matt McClune | László Ótto | Sybille Pattscheck | Anton Quiring | David Rhodes | Ivo Ringe | Rolf Rose | Barbara Rosengarth | Elisabeth Sonneck | Shawn Stipling | Esther Stocker | Günter Umberg | Jan van der Ploeg | Victor Vasarely | Dolf Verlinden | Don Voisine | Joan Witek \nDie Auseinandersetzung mit der Farbe Schwarz in all ihren Facetten der Materialität wie auch der malerischen Aktion spiegelt sich in dieser Ausstellung wieder: Enkaustik ebenso wie Kohle\, Öl\, Acryl und Collagen auf nahezu allen modernen Trägermaterialen lassen das Thema der Ausstellung lebendig und anschaulich werden. Der niederländische Künstler Jan van der Ploeg setzt sich mittels eines ca. 3\,22 x 4\,32 m großen in-situ Wandgemäldes im RAUM SCHROTH mit Schwarz auseinander. \nEröffnungsveranstaltung\n2. Dezember 2017\, 17 Uhr \nAusstellungszeitraum\n2. Dezember 2017 – 4. März 2018 \nRaum Schroth im Museum Wilhelm Morgner\nThomästraße 1\, 59494 Soest\nAnreise \nÖffnungszeiten\nDienstag – Freitag 14:00 – 17:00 Uhr\nSamstag + Sonntag 11:00 – 17:00 Uhr \nEintritt im Dezember 2017 frei!\nAb Januar 2018 regulärer Museumseintritt.
URL:https://www.skk-soest.de/veranstaltung/ausstellung-painting-black/
LOCATION:RAUM SCHROTH im Museum Wilhelm Morgner\, Thomästraße 1\, Soest\, NRW\, 59494\, Deutschland
CATEGORIES:Ausstellungen,Stiftung Konzeptuelle Kunst
ATTACH;FMTTYPE=image/jpeg:https://www.skk-soest.de/wp-content/uploads/painting-black-2-scaled.jpg
ORGANIZER;CN="Stiftung Konzeptuelle Kunst":MAILTO:info@skk-soest.de
END:VEVENT
END:VCALENDAR