BEGIN:VCALENDAR
VERSION:2.0
PRODID:-//Stiftung Konzeptuelle Kunst - ECPv6.15.17//NONSGML v1.0//EN
CALSCALE:GREGORIAN
METHOD:PUBLISH
X-WR-CALNAME:Stiftung Konzeptuelle Kunst
X-ORIGINAL-URL:https://www.skk-soest.de
X-WR-CALDESC:Veranstaltungen für Stiftung Konzeptuelle Kunst
REFRESH-INTERVAL;VALUE=DURATION:PT1H
X-Robots-Tag:noindex
X-PUBLISHED-TTL:PT1H
BEGIN:VTIMEZONE
TZID:Europe/Berlin
BEGIN:DAYLIGHT
TZOFFSETFROM:+0100
TZOFFSETTO:+0200
TZNAME:CEST
DTSTART:20170326T010000
END:DAYLIGHT
BEGIN:STANDARD
TZOFFSETFROM:+0200
TZOFFSETTO:+0100
TZNAME:CET
DTSTART:20171029T010000
END:STANDARD
BEGIN:DAYLIGHT
TZOFFSETFROM:+0100
TZOFFSETTO:+0200
TZNAME:CEST
DTSTART:20180325T010000
END:DAYLIGHT
BEGIN:STANDARD
TZOFFSETFROM:+0200
TZOFFSETTO:+0100
TZNAME:CET
DTSTART:20181028T010000
END:STANDARD
BEGIN:DAYLIGHT
TZOFFSETFROM:+0100
TZOFFSETTO:+0200
TZNAME:CEST
DTSTART:20190331T010000
END:DAYLIGHT
BEGIN:STANDARD
TZOFFSETFROM:+0200
TZOFFSETTO:+0100
TZNAME:CET
DTSTART:20191027T010000
END:STANDARD
END:VTIMEZONE
BEGIN:VEVENT
DTSTART;VALUE=DATE:20180317
DTEND;VALUE=DATE:20180528
DTSTAMP:20260424T065749
CREATED:20180216T133034Z
LAST-MODIFIED:20240117T135923Z
UID:1632-1521244800-1527465599@www.skk-soest.de
SUMMARY:Ausstellung | Brent Birnbaum – That's what (s)he said.
DESCRIPTION:Brent Birnbaum – That’s what (s)he said.\n \nDurch die Verwendung gebrauchter Gegenstände vermittelt der US-Konzept- und Aktionskünstler emotionale Aussagen über deren ursprüngliche profane Bestimmung hinaus. Die Ausstellung beinhaltet eine über 9 Meter lange farbige Installation aus gebrauchten Tischplatten und Regalbrettern der IKEA-Serie LACK. Die darauf zu findenden Gebrauchsspuren weisen auf ihre Nutzung hin\, beinhalten durch ihre Entsorgung über eBay und ähnliche Portale in New York aber auch die Aussage\, dass der Anbieter\, z.B. nach Beginn seiner beruflichen Karriere\, nun zu höherwertigem Lebensstil finden kann und möchte. Die Lichtinstallation That’s what (s)he said. findet ihren Ursprung in der Amerikanischen Pop-Musik\, steht in dieser Ausstellung im Kontext zu der Installation LACK. Als weitere typische Arbeit beinhaltet die Ausstellung eine Installation aus gebrauchten und farbig bemalten\, funktionsfähigen Laufbändern. \nEröffnungsveranstaltung\n17. März 2018\, 17 Uhr \nAusstellungszeitraum\n18. März – 27. Mai 2018 \nRaum Schroth im Museum Wilhelm Morgner\nThomästraße 1\, 59494 Soest\nAnreise \nÖffnungszeiten\nDienstag – Freitag 14:00 – 17:00 Uhr\nSamstag + Sonntag 11:00 – 17:00 Uhr \nEintritt\nsiehe Museum Wilhelm Morgner Website
URL:https://www.skk-soest.de/veranstaltung/ausstellung-brent-birnbaum-thats-what-she-said/
LOCATION:RAUM SCHROTH im Museum Wilhelm Morgner\, Thomästraße 1\, Soest\, NRW\, 59494\, Deutschland
CATEGORIES:Ausstellungen,Stiftung Konzeptuelle Kunst
ATTACH;FMTTYPE=image/jpeg:https://www.skk-soest.de/wp-content/uploads/Brent-Birnbaum-Quadratt.jpg
ORGANIZER;CN="Stiftung Konzeptuelle Kunst":MAILTO:info@skk-soest.de
END:VEVENT
BEGIN:VEVENT
DTSTART;VALUE=DATE:20180513
DTEND;VALUE=DATE:20180719
DTSTAMP:20260424T065749
CREATED:20180503T125858Z
LAST-MODIFIED:20240111T121543Z
UID:1927-1526169600-1531958399@www.skk-soest.de
SUMMARY:Leihgabe | Klaus Staudt: Horizonte
DESCRIPTION:Wir beteiligen uns mit Leihgaben an der Ausstellungsreihe Sammlung PLUS\,\nin der die Sammlung des Kunstmuseums Ahlen im Dialog mit ausgewählten künstlerischen Positionen gezeigt wird. \nKlaus Staudt: Horizonte bis zum 08.07.2018\n \nDie Präsentation mit Arbeiten aus den letzten zwanzig Jahren würdigt das Werk eines Künstlers\, der seinen festen Platz im konkreten Kunstschaffen in Deutschland einnimmt. Besonders die Anwesenheit von Licht in der Kunst von Klaus Staudt eröffnet fortwährend neue Horizonte. Die Ausstellung ist eine Kooperation mit dem Leopold Hösch Museum in Düren und dem Kunstverein Bremerhaven.
URL:https://www.skk-soest.de/veranstaltung/leihgabe-klaus-staudt-horizonte/
LOCATION:Kunstmuseum Ahlen\, Museumsplatz 1\, Ahlen\, NRW\, 59227\, Deutschland
CATEGORIES:Veranstaltungen
ATTACH;FMTTYPE=image/jpeg:https://www.skk-soest.de/wp-content/uploads/Staudt-Klaus-Traum-der-Erkenntnis-PhC-Christoph-Meinschäfer-3543-x-3543.jpg
END:VEVENT
END:VCALENDAR