BEGIN:VCALENDAR
VERSION:2.0
PRODID:-//Stiftung Konzeptuelle Kunst - ECPv6.15.17//NONSGML v1.0//EN
CALSCALE:GREGORIAN
METHOD:PUBLISH
X-WR-CALNAME:Stiftung Konzeptuelle Kunst
X-ORIGINAL-URL:https://www.skk-soest.de
X-WR-CALDESC:Veranstaltungen für Stiftung Konzeptuelle Kunst
REFRESH-INTERVAL;VALUE=DURATION:PT1H
X-Robots-Tag:noindex
X-PUBLISHED-TTL:PT1H
BEGIN:VTIMEZONE
TZID:Europe/Berlin
BEGIN:DAYLIGHT
TZOFFSETFROM:+0100
TZOFFSETTO:+0200
TZNAME:CEST
DTSTART:20240331T010000
END:DAYLIGHT
BEGIN:STANDARD
TZOFFSETFROM:+0200
TZOFFSETTO:+0100
TZNAME:CET
DTSTART:20241027T010000
END:STANDARD
BEGIN:DAYLIGHT
TZOFFSETFROM:+0100
TZOFFSETTO:+0200
TZNAME:CEST
DTSTART:20250330T010000
END:DAYLIGHT
BEGIN:STANDARD
TZOFFSETFROM:+0200
TZOFFSETTO:+0100
TZNAME:CET
DTSTART:20251026T010000
END:STANDARD
BEGIN:DAYLIGHT
TZOFFSETFROM:+0100
TZOFFSETTO:+0200
TZNAME:CEST
DTSTART:20260329T010000
END:DAYLIGHT
BEGIN:STANDARD
TZOFFSETFROM:+0200
TZOFFSETTO:+0100
TZNAME:CET
DTSTART:20261025T010000
END:STANDARD
END:VTIMEZONE
BEGIN:VEVENT
DTSTART;VALUE=DATE:20250316
DTEND;VALUE=DATE:20250616
DTSTAMP:20260420T054013
CREATED:20250211T090707Z
LAST-MODIFIED:20250214T080610Z
UID:6838-1742083200-1750031999@www.skk-soest.de
SUMMARY:{:de}WestFarbe VI{:}{:en}WestFarbe VI{:}
DESCRIPTION:WestFarbe VI\nPaint vs. Colour\, Prozessualität und Erscheinung \nWestFarbe VI schlüsselt zwei zentrale Aspekte von Farbe in der Malerei auf: Als Malmaterial (paint) und als Kolorit (colour) thematisieren sie die Werke\, die Kurator Christoph Dahlhausen hier zusammenführt. WestFarbe zeigt interessante Unterschiede im malerischen Prozess und zugleich verschiedene systematische Ansätze in der Farbmalerei auf. Zentral bleibt aber stets der sinnliche Aspekt des direkten Erlebens im persönlichen Zugang\, in der Begegnung mit dem gemalten Werk. \nWestFarbe ist eine Ausstellungreihe\, die der international agierende Künstler und Kurator Christoph Dahlhausen im Jahr 2016 begann. An Stationen in Deutschland und Neuseeland zeigte er jeweils wechselnde Zusammenstellungen von Künstlerinnen und Künstlern\, immer in Resonanz zu einer privaten oder öffentlichen Kunstsammlung. \nWestFarbe VI umfasst malerische Positionen aus elf Ländern und kombiniert eine gezielte Auswahl von Werken aus dem Bereich der konkreten und konzeptuellen Kunst der Sammlung Schroth mit anderen zeitgenössischen regionalen und internationalen Positionen\, die teilweise in Deutschland noch weniger bekannt sind. Die Zusammenstellung der Werke sowohl von jüngeren Künstlerinnen und Künstlern wie auch solchen\, die bereits in den 1960er und 70er Jahren arbeiteten\, belegt\, dass reduzierte und konkrete Malerei seit langem und weiterhin ein aktuelles Thema ist. \nWerke von Helen Calder | Margit Calegari | Philippe Chitarrini | Rudolf de Crignis | Christoph Dahlhausen | Thomas Deyle | Andreas Exner | Friedhelm Falke | Tom Früchtl | András Gál | Katharina Grosse | Marcia Hafif | James Howell | Callum Innes | Jus Juchtmans | Susanne Jung | Ditty Ketting | Jo Kuhn | Alfons Lachauer| Markus Maier | Joseph Marioni | Ingo Meller | müller-emil | Aurélie Nemours | John Nixon | Liane Nouri | Winston Roeth | Klaus J. Schoen | Tim Schwartz \nAusstellungszeitraum\n16. März – 15. Juni 2025 \nEröffnung\n15. März 2025\, 17 Uhr \nRAUM SCHROTH im Museum Wilhelm Morgner\nThomästraße 1\, 59494 Soest\nAnreise | Öffnungszeiten | Eintritt \n   \n © Fotografie: Christoph Dahlhausen\, VG Bild-Kunst\, Bonn 2025
URL:https://www.skk-soest.de/veranstaltung/westfarbe-vi/
LOCATION:RAUM SCHROTH im Museum Wilhelm Morgner\, Thomästraße 1\, Soest\, NRW\, 59494\, Deutschland
CATEGORIES:Ausstellungen,Stiftung Konzeptuelle Kunst
ATTACH;FMTTYPE=image/jpeg:https://www.skk-soest.de/wp-content/uploads/Sonnenuntergang-fuer-WestFarbe-VI-in-Soest-mittelformat.jpg
ORGANIZER;CN="Stiftung Konzeptuelle Kunst":MAILTO:info@skk-soest.de
END:VEVENT
END:VCALENDAR