BEGIN:VCALENDAR
VERSION:2.0
PRODID:-//Stiftung Konzeptuelle Kunst - ECPv6.15.17//NONSGML v1.0//EN
CALSCALE:GREGORIAN
METHOD:PUBLISH
X-ORIGINAL-URL:https://www.skk-soest.de
X-WR-CALDESC:Veranstaltungen für Stiftung Konzeptuelle Kunst
REFRESH-INTERVAL;VALUE=DURATION:PT1H
X-Robots-Tag:noindex
X-PUBLISHED-TTL:PT1H
BEGIN:VTIMEZONE
TZID:Europe/Berlin
BEGIN:DAYLIGHT
TZOFFSETFROM:+0100
TZOFFSETTO:+0200
TZNAME:CEST
DTSTART:20240331T010000
END:DAYLIGHT
BEGIN:STANDARD
TZOFFSETFROM:+0200
TZOFFSETTO:+0100
TZNAME:CET
DTSTART:20241027T010000
END:STANDARD
BEGIN:DAYLIGHT
TZOFFSETFROM:+0100
TZOFFSETTO:+0200
TZNAME:CEST
DTSTART:20250330T010000
END:DAYLIGHT
BEGIN:STANDARD
TZOFFSETFROM:+0200
TZOFFSETTO:+0100
TZNAME:CET
DTSTART:20251026T010000
END:STANDARD
BEGIN:DAYLIGHT
TZOFFSETFROM:+0100
TZOFFSETTO:+0200
TZNAME:CEST
DTSTART:20260329T010000
END:DAYLIGHT
BEGIN:STANDARD
TZOFFSETFROM:+0200
TZOFFSETTO:+0100
TZNAME:CET
DTSTART:20261025T010000
END:STANDARD
END:VTIMEZONE
BEGIN:VEVENT
DTSTART;VALUE=DATE:20250629
DTEND;VALUE=DATE:20250915
DTSTAMP:20260420T040101
CREATED:20250522T063922Z
LAST-MODIFIED:20250522T064735Z
UID:26046-1751155200-1757894399@www.skk-soest.de
SUMMARY:{:de}material messenger{:}{:en}material messenger{:}
DESCRIPTION:material messenger\n \n„material“ ist im Englischen gleichermaßen Ding wie Eigenschaft. Die Ausstellung im RAUM SCHROTH zeigt internationale Werke und künstlerische Konzeptionen\, die das Material selbst in den Vordergrund stellen und nach seiner elementaren Beschaffenheit\, seinen Besonderheiten und Verhaltensweisen fragen. \nDiese Reflexionen umfassen insbesondere Möglichkeiten des Materials\, die gewohnten Nutzungen entgegenstehen\, als auch überraschende Eigenschaften\, die das Material normalerweise nicht zeigt. Dabei ist das Ausgangs-Material äußerst vielfältig\, von soliden Stoffen\, die auch zur Güterproduktion verwendet werden\, über vegetabile bis hin zu flüchtigen Elementen – der Bezug zum Umraum\, zu Veränderung und Vergänglichkeit ist dem Materialbegriff untrennbar verbunden. Damit eröffnet sich das weite Feld der Bedeutungen\, die in der künstlerischen Transformation des Materials gewonnen werden und dieses wiederum mit existentiellen\, alltäglichen und sozialen Erfahrungen und Entwürfen verschränken. \nmaterial messenger wird kuratiert von Juliane Rogge und Elisabeth Sonneck und umfasst Werke aus der Sammlung Schroth sowie von eingeladenen Künstlerinnen und Künstlern: \nJulieta Aranda | Aram Bartholl | Burghard | Angela de la Cruz | Spencer Finch | Abie Franklin & Daniel Hölzl | Jason Gringler | Carla Guagliardi | Vanessa Henn | Iepe | Zhanna Kadyrova | Katja Kottmann | Linda Lach | Jamie North | Anton Quiring | Ulrich Rückriem | Maarit Salolainen | Karin Sander | Nora Schattauer | David Semper | Berndnaut Smilde | Elisabeth Sonneck | Ignacio Uriarte | Christoph Weber | Beat Zoderer \nAusstellungszeitraum\n29. Juni – 14. September 2025 \nEröffnung\n28. Juni 2025\, 17 Uhr \nRAUM SCHROTH im Museum Wilhelm Morgner\nThomästraße 1\, 59494 Soest\nAnreise | Öffnungszeiten | Eintritt \n   \n © scanned copper plate
URL:https://www.skk-soest.de/veranstaltung/material-messenger/
LOCATION:RAUM SCHROTH im Museum Wilhelm Morgner\, Thomästraße 1\, Soest\, NRW\, 59494\, Deutschland
CATEGORIES:Ausstellungen,Stiftung Konzeptuelle Kunst
ATTACH;FMTTYPE=image/jpeg:https://www.skk-soest.de/wp-content/uploads/scanned-copper-plate__150dpi-fuer-internet.jpg
ORGANIZER;CN="Stiftung Konzeptuelle Kunst":MAILTO:info@skk-soest.de
END:VEVENT
BEGIN:VEVENT
DTSTART;TZID=Europe/Berlin:20250727T170000
DTEND;TZID=Europe/Berlin:20250727T183000
DTSTAMP:20260420T040102
CREATED:20250709T065344Z
LAST-MODIFIED:20250722T082935Z
UID:27604-1753635600-1753641000@www.skk-soest.de
SUMMARY:Konzert: Simon Camatta - Improvisationen am Schlagzeug
DESCRIPTION:Simon Camatta – Improvisationen am Schlagzeug \nBegleitend zur Ausstellung „material messenger“ \n„material“ ist im Englischen gleichermaßen Ding wie Eigenschaft. Die von Juliane Rogge und Elisabeth Sonneck kuratierte Ausstellung im RAUM SCHROTH zeigt internationale Werke und künstlerische Konzeptionen\, die das Material selbst in den Vordergrund stellen und nach seiner elementaren Beschaffenheit\, seinen Besonderheiten und Verhaltensweisen fragen.  \nInmitten der Ausstellung spielt Simon Camatta am Sonntag\, 27. Juli\, 17 Uhr Improvisationen am Schlagzeug.  Indem er die hörbaren Eigenschaften seines Materials erlebbar macht\, fügt er material messenger eine akustische Ebene hinzu. \nSimon Camatta (geb. 1976) fällt durch abendfüllende\, improvisierte Schlagzeug Solokonzerte und interdisziplinäre Arbeiten an außergewöhnlichen Off-Orten aus dem üblichen Rahmen. Er studierte Jazz an der Folkwang UdK Essen\, spielt Shows mit verschiedenen Gruppen\, in Theatern und mit freien Tanzkompanien. Im Rahmen seines Projektes „Schlagzeug trifft Leinwand“ arbeitet er mit bildenden Künstlerinnen zusammen. Er kuratiert zwei Festivals und lebt in Essen. \nWeitere Informationen zu Simon Camattas Schaffen finden Sie hier.   \nVorab\, um 15 Uhr\, führen der Sammler Carl-Jürgen Schroth und die Kuratorinnen Elisabeth Sonneck und Juliane Rogge gemeinsam durch die Ausstellung. \nDer Eintritt beträgt 20\,- € inkl. Museumseintritt und Teilnahme an der vorherigen Führung. Der ermäßigte Eintritt beträgt 10\,- €. Die Ermäßigungsbedingungen sind unter www.museum-wilhelm-morgner.de unter „Eintrittspreise“ einzusehen. \nmaterial messenger\n28. Juni – 14. September 2025 \nRAUM SCHROTH im Museum Wilhelm Morgner\nThomästraße 1\, 59494 Soest\nAnreise | Öffnungszeiten | Eintritt \n   \n Simon Camatta © Jakob Jentgens
URL:https://www.skk-soest.de/veranstaltung/konzert-simon-camatta-improvisationen-am-schlagzeug/
LOCATION:RAUM SCHROTH im Museum Wilhelm Morgner\, Thomästraße 1\, Soest\, NRW\, 59494\, Deutschland
CATEGORIES:Ausstellungen,Stiftung Konzeptuelle Kunst,Veranstaltungen
ATTACH;FMTTYPE=image/jpeg:https://www.skk-soest.de/wp-content/uploads/SC-SOLO-by-jabob-jentgens.jpeg
ORGANIZER;CN="Stiftung Konzeptuelle Kunst":MAILTO:info@skk-soest.de
END:VEVENT
END:VCALENDAR