BEGIN:VCALENDAR
VERSION:2.0
PRODID:-//Stiftung Konzeptuelle Kunst - ECPv6.15.17//NONSGML v1.0//EN
CALSCALE:GREGORIAN
METHOD:PUBLISH
X-ORIGINAL-URL:https://www.skk-soest.de
X-WR-CALDESC:Veranstaltungen für Stiftung Konzeptuelle Kunst
REFRESH-INTERVAL;VALUE=DURATION:PT1H
X-Robots-Tag:noindex
X-PUBLISHED-TTL:PT1H
BEGIN:VTIMEZONE
TZID:Europe/Berlin
BEGIN:DAYLIGHT
TZOFFSETFROM:+0100
TZOFFSETTO:+0200
TZNAME:CEST
DTSTART:20230326T010000
END:DAYLIGHT
BEGIN:STANDARD
TZOFFSETFROM:+0200
TZOFFSETTO:+0100
TZNAME:CET
DTSTART:20231029T010000
END:STANDARD
BEGIN:DAYLIGHT
TZOFFSETFROM:+0100
TZOFFSETTO:+0200
TZNAME:CEST
DTSTART:20240331T010000
END:DAYLIGHT
BEGIN:STANDARD
TZOFFSETFROM:+0200
TZOFFSETTO:+0100
TZNAME:CET
DTSTART:20241027T010000
END:STANDARD
BEGIN:DAYLIGHT
TZOFFSETFROM:+0100
TZOFFSETTO:+0200
TZNAME:CEST
DTSTART:20250330T010000
END:DAYLIGHT
BEGIN:STANDARD
TZOFFSETFROM:+0200
TZOFFSETTO:+0100
TZNAME:CET
DTSTART:20251026T010000
END:STANDARD
BEGIN:DAYLIGHT
TZOFFSETFROM:+0100
TZOFFSETTO:+0200
TZNAME:CEST
DTSTART:20260329T010000
END:DAYLIGHT
BEGIN:STANDARD
TZOFFSETFROM:+0200
TZOFFSETTO:+0100
TZNAME:CET
DTSTART:20261025T010000
END:STANDARD
END:VTIMEZONE
BEGIN:VEVENT
DTSTART;VALUE=DATE:20240908
DTEND;VALUE=DATE:20241202
DTSTAMP:20260419T145129
CREATED:20240117T144622Z
LAST-MODIFIED:20241029T094306Z
UID:5352-1725753600-1733097599@www.skk-soest.de
SUMMARY:{:de}3D. Wegweisende Plastik der konkreten Gegenwart | Hellweg Konkret III{:}{:en}3D. Contemporary Explorations in Concrete Sculpture | Hellweg Konkret III{:}
DESCRIPTION:Im Rahmen des Hellweg Konkret III – Projektes\n3D. Wegweisende Plastik der konkreten Gegenwart  \nDie gemeinsam mit dem Kölner Künstler Ivo Ringe kuratierte Ausstellung richtet den Blick auf die Gegenwart und Zukunft konkreter Plastik. Sie spürt vielversprechenden aktuellen Tendenzen im Schaffen internationaler Künstlerinnen und Künstler nach\, welche die rund hundertjährige Bewegung der konkreten Kunst fortsetzen und mit neuem Leben füllen. \nDiese verhandeln Grundlegendes der plastischen Gattung – wie Raum\, Form\, Gewicht\, Schwerkraft\, Spannung\, Balance – und Grundsätze konkreter Kunst: Auch wenn diese Werke auf das zu Beginn des 20. Jahrhunderts errungene Primat der Gegenstandsfreiheit bauen\, so sind nun Referenzen an die Wirklichkeit denkbar. Die weiterhin reduzierte Formensprache geht hier – auch dank der Offenheit gegenüber neuen Materialien mit neuen Möglichkeiten – weit über die geometrischen Körper wie Kuben\, Quader und Kugeln hinaus. Von den Ahninnen und Ahnen eingeführte Techniken wie der Guss\, die Faltung oder die Assemblage werden weiter entwickelt. Bewegung\, Veränderung und Dynamik – sei es im Schaffensprozess oder als Potenzial – sind zentrale Themen. \nHohe technische und ästhetische Qualität und stringent durchdachte Konzepte\, die bisweilen mit gewissem Witz vorgetragen werden\, kommen in den gezeigten Werken zusammen – ein erfrischendes Erlebnis für Geist und Sinne. \nIm Museum erhalten Sie für 3\,- € einen umfangreichen Ausstellungsbegleiter. Die digitale Version finden Sie hier. \n3D ist Teil der Ausstellungsreihe Hellweg Konkret III. Bereits zum dritten Mal schließen sich Kulturinstitutionen aus der Hellwegregion und Arnsberg zusammen\, um von Frühjahr 2024 bis Herbst 2025 in zehn Ausstellungen konkrete Kunst in den Fokus zu rücken. Hellweg Konkret III widmet sich gemeinschaftlich dem Thema „Raum“. Hier geht es zur Website des Kooperationsprojekts.\n \nWerke von\n\nAntje Blumenstein | Otto Boll | Katrin Bremermann | Brigitte Dams | Michael Danner | Patrick Alexander Deventer | Edgar Diehl | Erik Haemers | Margareta Hesse | Daniel G. Hill | Ingrid Hornef | Michelle Jaffé | Ádám Kokesch | Bernd Kommnick | Siegfried Kreitner | Gerda Kruimer | Eric Lugtigheid | Elisa Manig | Stephan Marienfeld | Robin Merkisch | Michael Post | Ivo Ringe | rooose | Reinhard Roy | Otto Scherer | Mary Schiliro | Jo Schöpfer | Reiner Seliger | Suzan Shutan | Shawn Stipling | Bogumila Strojna | Heiner Thiel | Molly Thomson | Kristel van Ballaer | Kees van de Wal | Heike Weber | Peter Weber | Martin Willing | Beat Zoderer \n\nAusstellungszeitraum\n8. September – 1. Dezember 2024 \nEröffnung\n7. September 2024\, 17 Uhr \nRAUM SCHROTH im Museum Wilhelm Morgner\nThomästraße 1\, 59494 Soest\nAnreise | Öffnungszeiten | Eintritt \n    
URL:https://www.skk-soest.de/veranstaltung/hellweg-konkret-iii-3d/
LOCATION:RAUM SCHROTH im Museum Wilhelm Morgner\, Thomästraße 1\, Soest\, NRW\, 59494\, Deutschland
CATEGORIES:Ausstellungen,Stiftung Konzeptuelle Kunst
ATTACH;FMTTYPE=image/jpeg:https://www.skk-soest.de/wp-content/uploads/Firefly-3-D-als-dreidimensionales-Objekt-in-groben-Bauschaum-in-der-Farbe-rose-weisser-Hintergrund.jpg
ORGANIZER;CN="Stiftung Konzeptuelle Kunst":MAILTO:info@skk-soest.de
END:VEVENT
BEGIN:VEVENT
DTSTART;VALUE=DATE:20241215
DTEND;VALUE=DATE:20250303
DTSTAMP:20260419T145129
CREATED:20240517T085302Z
LAST-MODIFIED:20250217T091202Z
UID:5647-1734220800-1740959999@www.skk-soest.de
SUMMARY:{:de}Nach der Natur | Mit Werken aus der SAMMLUNG SCHROTH{:}{:en}After Nature | With works by artists from the Schroth Collection{:}
DESCRIPTION:Nach der Natur\nMit Werken aus der SAMMLUNG SCHROTH \nNach der Natur zeigt Werke von Künstlerinnen und Künstlern der Sammlung Schroth\, die mit konzentrierten gestalterischen Mitteln als kraftvolle Realitäten für sich stehen und zugleich eine enge Verbindung zur Wirklichkeit haben: Der wolkenlose Himmel\, die ungeheuren Bewegungen des Meeres\, die leuchtenden Farben von Herbstlaub\, das Sonnenlicht oder der menschliche Körper etwa liegen ihnen als Ausgangspunkt\, Inspiration oder auch Thema zugrunde. \nIhre Gestaltungsmittel wie reduzierte Bildelemente\, eine klare Formensprache\, reine\, oft monochrome Farbgebung und eine nachvollziehbare Konzeption wurden im 20. Jahrhundert für und durch den Befreiungsprozess von der Naturnachahmung\, d. h. der Abbildung der Realität entwickelt. In der gegenwärtigen Kunst werden sie aber auch eingesetzt\, um Phänomene und Vorgänge der realen Welt zu formulieren. \nEinige Künstlerinnen und Künstler setzen konkrete\, einzigartige Licht-\, Gestalt- oder Maßverhältnisse aus der Wirklichkeit mit universellen Kompositionsmitteln ins Bild; andere nehmen Naturbeobachtungen als Inspiration auf und verknüpfen sie mit schöpferischer Konzeption sowie mathematischer Konstruktion; manche legen durch ihre künstlerischen Eingriffe tiefere Wahrheiten und Strukturen unserer Umgebung frei.  \nNach der Natur untersucht das Verhältnis von Realität und Werk\, aber auch von Natur\, Mensch und Kultur sowie von Allgemeingültigkeit und Einzigartigkeit und bricht das Konzept von Gegenstandslosigkeit in der zeitgenössischen Kunst auf. \nEinen digitalen Ausstellungsguide mit Informationen zu allen Positionen finden Sie hier. \nErgänzt um Leihgaben\, stammen die Werke der Ausstellung aus der Sammlung Schroth\nJill Baroff | Antje Blumenstein | Thomas Deyle | Inge Dick | Jean-François Dubreuil | Spencer Finch | James Howell | Yves Klein | Jean Legros | Mike Meiré | Charles-Albert Mudry | Burghard Müller-Dannhausen | Susan Morris | Reinoud Oudshoorn | Anton Quiring | Elisabeth Sonneck | Günther Uecker | Ignacio Uriarte | Jan van Munster | Pieter Vermeersch | Joan Witek \nAusstellungszeitraum\n15. Dezember 2024 – 2. März 2025 \nEröffnung\n14. Dezember 2024\, 17 Uhr \nRAUM SCHROTH im Museum Wilhelm Morgner\nThomästraße 1\, 59494 Soest\nAnreise | Öffnungszeiten | Eintritt \n   \nDetail © Jill Baroff\, Red Tide Circle Chesapeak Winter\, 2007\, 105 x 105 cm\, PhC Ulli Sowa
URL:https://www.skk-soest.de/veranstaltung/werke-aus-der-sammlung-schroth-nach-der-natur/
LOCATION:RAUM SCHROTH im Museum Wilhelm Morgner\, Thomästraße 1\, Soest\, NRW\, 59494\, Deutschland
CATEGORIES:Ausstellungen,Stiftung Konzeptuelle Kunst,Veranstaltungen
ATTACH;FMTTYPE=image/png:https://www.skk-soest.de/wp-content/uploads/184-Baroff-Jill-Red-Tide-Circle-Chesapeak-Winter-PhC-Ulli-Sowa-4016 × 6016-mit-Rahmen-f.png
ORGANIZER;CN="Stiftung Konzeptuelle Kunst":MAILTO:info@skk-soest.de
END:VEVENT
END:VCALENDAR