BEGIN:VCALENDAR
VERSION:2.0
PRODID:-//Stiftung Konzeptuelle Kunst - ECPv6.15.17//NONSGML v1.0//EN
CALSCALE:GREGORIAN
METHOD:PUBLISH
X-ORIGINAL-URL:https://www.skk-soest.de
X-WR-CALDESC:Veranstaltungen für Stiftung Konzeptuelle Kunst
REFRESH-INTERVAL;VALUE=DURATION:PT1H
X-Robots-Tag:noindex
X-PUBLISHED-TTL:PT1H
BEGIN:VTIMEZONE
TZID:Europe/Berlin
BEGIN:DAYLIGHT
TZOFFSETFROM:+0100
TZOFFSETTO:+0200
TZNAME:CEST
DTSTART:20240331T010000
END:DAYLIGHT
BEGIN:STANDARD
TZOFFSETFROM:+0200
TZOFFSETTO:+0100
TZNAME:CET
DTSTART:20241027T010000
END:STANDARD
BEGIN:DAYLIGHT
TZOFFSETFROM:+0100
TZOFFSETTO:+0200
TZNAME:CEST
DTSTART:20250330T010000
END:DAYLIGHT
BEGIN:STANDARD
TZOFFSETFROM:+0200
TZOFFSETTO:+0100
TZNAME:CET
DTSTART:20251026T010000
END:STANDARD
BEGIN:DAYLIGHT
TZOFFSETFROM:+0100
TZOFFSETTO:+0200
TZNAME:CEST
DTSTART:20260329T010000
END:DAYLIGHT
BEGIN:STANDARD
TZOFFSETFROM:+0200
TZOFFSETTO:+0100
TZNAME:CET
DTSTART:20261025T010000
END:STANDARD
BEGIN:DAYLIGHT
TZOFFSETFROM:+0100
TZOFFSETTO:+0200
TZNAME:CEST
DTSTART:20270328T010000
END:DAYLIGHT
BEGIN:STANDARD
TZOFFSETFROM:+0200
TZOFFSETTO:+0100
TZNAME:CET
DTSTART:20271031T010000
END:STANDARD
END:VTIMEZONE
BEGIN:VEVENT
DTSTART;VALUE=DATE:20250927
DTEND;VALUE=DATE:20260209
DTSTAMP:20260419T214043
CREATED:20250818T085134Z
LAST-MODIFIED:20251125T085908Z
UID:28525-1758931200-1770595199@www.skk-soest.de
SUMMARY:{:de}(im)prévu | (un)vorhergesehen{:}{:en}(im)prévu | (un)foreseen{:}
DESCRIPTION:(im)prévu | (un)vorhergesehen\nKonstruktionen zwischen System und Abweichung \nCharles Bézie | Daniel Buren | Jean-François Dubreuil | Vera Molnar | François Morellet | Aurélie Nemours | Yves Popet | Victor Vasarely \nWie findet man ein Bild? Die Ausstellung zeigt französische Künstlerinnen und Künstler aus dem Herz der Sammlung Schroth und geht dabei der Frage nach Möglichkeiten der künstlerischen Konzeption nach. Von fest definierten Gestaltungselementen und systematischem Aufbau über freies Experiment bis hin zum Zufall nutzen diese Künstler*innen Methoden zwischen planvollem Ansatz und Offenheit für Unvorhergesehenes\, die ein Finden ermöglichen\, das mehr als das Ergebnis einer Suche ist. \nSie haben ihrem Schaffen einen Rahmen aus konsequenten Regeln der Bildgestaltung gegeben oder Systeme selbst zum Gegenstand ihrer Arbeiten erklärt. An die Stelle der subjektiven\, intuitiven Komposition tritt bei ihnen die auf einfachen oder elaborierten Systemen basierte Konstruktion. Systematisch erforschen sie die visuellen Konsequenzen etwa von Wiederholung\, Progression\, Drehung oder Überlagerung. Im planvollen Vorgehen heißen manche von ihnen aber auch Abweichung und Zufall willkommen. So integrierte François Morellet den Zufall als Prinzip\, um die Idee von künstlerischer Komposition an sich außer Kraft zu setzen und zugleich so neue und autonome Elemente der Wirklichkeit zu schaffen\, dass sie zuvor nicht einmal in seiner Vorstellung existierten. Die Werke Vera Molnars\, der Pionierin der computergenerierten Kunst\, leben von 99 % Ordnung – und einem Prozent Chaos. \nSinnliche Freude\, überraschender Humor und rationales Nachvollziehen verbinden sich in dieser Ausstellung im RAUM SCHROTH zu einem umfassenden Erlebnis.   \nAusstellungszeitraum\n28. September 2025 – 8. Februar 2026 \nEröffnung\n27. September 2025\, 17 Uhr \nRAUM SCHROTH im Museum Wilhelm Morgner\nThomästraße 1\, 59494 Soest\nAnreise | Öffnungszeiten | Eintritt \n   \nAbb.: Jean-François Dubreuil\, Liberation No. 3300\, 1991\, Acryl auf Leinwand\, 126 x 56 cm\, © Jean-François Dubreuil\, PhC Sebastian Kempa 
URL:https://www.skk-soest.de/veranstaltung/imprevu-unvorhergesehen/
LOCATION:RAUM SCHROTH im Museum Wilhelm Morgner\, Thomästraße 1\, Soest\, NRW\, 59494\, Deutschland
CATEGORIES:Ausstellungen,Stiftung Konzeptuelle Kunst,Veranstaltungen
ATTACH;FMTTYPE=image/jpeg:https://www.skk-soest.de/wp-content/uploads/028-Dubreuil-Jean-Francois-Liberation-3300-PhC-Sebastian-Kempa-1991-1731-×-3780-scaled.jpeg
ORGANIZER;CN="Stiftung Konzeptuelle Kunst":MAILTO:info@skk-soest.de
END:VEVENT
BEGIN:VEVENT
DTSTART;TZID=Europe/Berlin:20251005T110000
DTEND;TZID=Europe/Berlin:20251005T123000
DTSTAMP:20260419T214043
CREATED:20251002T101936Z
LAST-MODIFIED:20251002T101936Z
UID:31300-1759662000-1759667400@www.skk-soest.de
SUMMARY:Führung mit Sammler Carl-Jürgen Schroth
DESCRIPTION:Führung durch die Ausstellung\n(im)prévu | (un)vorhergesehen. Konstruktionen zwischen System und Abweichung \nDie Ausstellung zeigt französische Künstlerinnen und Künstler aus dem Herz der Sammlung Schroth und geht dabei der Frage nach Möglichkeiten der künstlerischen Konzeption nach. Von fest definierten Gestaltungselementen und systematischem Aufbau über freies Experiment bis hin zum Zufall nutzen diese Künstler*innen Methoden zwischen planvollem Ansatz und Offenheit für Unvorhergesehens\, die ein Finden ermöglichen\, das mehr als das Ergebnis einer Suche ist.  \n(im)prévu bringt internationale Leihgaben mit Werken aus der Sammlung Schroth in Dialog. \nEntdecken Sie die Ausstellung im Rahmen einer Führung mit dem Sammler Carl-Jürgen Schroth am Sonntag\, 5. Oktober um 11 Uhr! \nDer Museumseintritt ist zu diesem Termin wie an jedem ersten Sonntag des Monats frei! Lediglich eine Teilnahmegebühr in Höhe von 5\,- € fällt an. \n(im)prévu | (un)vorhergesehen. Konstruktionen zwischen System und Abweichung\n28. September 2025 – 8. Februar 2026 \nRAUM SCHROTH im Museum Wilhelm Morgner\nThomästraße 1\, 59494 Soest\nAnreise | Öffnungszeiten | Eintritt \n   \n Carl-Jürgen Schroth © Sebastian Kempa
URL:https://www.skk-soest.de/veranstaltung/fuehrung-mit-sammler-carl-juergen-schroth/
LOCATION:RAUM SCHROTH im Museum Wilhelm Morgner\, Thomästraße 1\, Soest\, NRW\, 59494\, Deutschland
CATEGORIES:Ausstellungen,Stiftung Konzeptuelle Kunst,Veranstaltungen
ATTACH;FMTTYPE=image/jpeg:https://www.skk-soest.de/wp-content/uploads/CJS-vor-Buren-©-Sebastian-Kempa-scaled.jpg
ORGANIZER;CN="Stiftung Konzeptuelle Kunst":MAILTO:info@skk-soest.de
END:VEVENT
BEGIN:VEVENT
DTSTART;TZID=Europe/Berlin:20251016T180000
DTEND;TZID=Europe/Berlin:20251016T190000
DTSTAMP:20260419T214043
CREATED:20251013T073114Z
LAST-MODIFIED:20251013T073114Z
UID:32156-1760637600-1760641200@www.skk-soest.de
SUMMARY:Grandes Dames\, Hasardeure und Pionier*innen - ausgewählte Œuvres im kunsthistorischen Kontext
DESCRIPTION:Vortrag von Juliane Rogge MA zur Ausstellung\n(im)prévu | (un)vorhergesehen. Konstruktionen zwischen System und Abweichung \nIm öffentlichen Raum – unter anderem in Münster oder Bielefeld – wie auch in der Kunstgeschichte eroberten sich François Morellet und Daniel Buren renommierte Plätze. Ihre sehr verschiedenen\, je wegweisenden Positionen wurden unter anderem durch mehrfache Teilnahmen an der Documenta und Venedig Biennale sowie Retrospektiven etwa im Centre Pompidou einer breiten Öffentlichkeit vorgestellt und in der Fachwelt anerkannt. \nAls wahre Pionierin erkundete Vera Molnar mutig und unkonventionell die Möglichkeiten digitaler Kunst – bereits lange bevor sie einen Computer zur Verfügung hatte. Ihrem Schaffen begegnen Kunstschaffende wie auch -erforschende seit langem mit großer Anerkennung.  \nVictor Vasarelys Schaffen hat nicht nur mit seinen weit verbreiteten Multiples den ästhetischen Kanon der zweiten Hälfte des 19. Jahrhunderts geprägt. 1969 gestaltete er die Fassade des Juridicums in Bonn.  \nAls Grande Dame der Abstraction géométrique ist Aurélie Nemours in allen wichtigen Sammlungen konkreter Kunst vertreten und mit Ausstellungen etwa im Haus Konstruktiv in Zürich\, Kunstmuseum Reutlingen. konkret oder eac. Espace de l’Art Concrete in Mouans-Sartoux gewürdigt worden. \nKuratorin Juliane Rogge beleuchtet in einem Vortrag das Schaffen und die kunsthistorische Bedeutung dieser renommierten Künstler*innen\, deren Werke in der aktuellen Ausstellung im RAUM SCHROTH zu sehen sind.  \nDie Teilnahmegebühr beträgt ab 18 Jahren 5\,- € zzgl. Museumseintritt.  \n(im)prévu | (un)vorhergesehen. Konstruktionen zwischen System und Abweichung\n28. September 2025 – 8. Februar 2026 \nRAUM SCHROTH im Museum Wilhelm Morgner\nThomästraße 1\, 59494 Soest\nAnreise | Öffnungszeiten | Eintritt \n  
URL:https://www.skk-soest.de/veranstaltung/grandes-dames-hasardeure-und-pionierinnen-ausgewaehlte-oeuvres-im-kunsthistorischen-kontext/
LOCATION:RAUM SCHROTH im Museum Wilhelm Morgner\, Thomästraße 1\, Soest\, NRW\, 59494\, Deutschland
CATEGORIES:Ausstellungen,Stiftung Konzeptuelle Kunst,Veranstaltungen
ATTACH;FMTTYPE=image/jpeg:https://www.skk-soest.de/wp-content/uploads/20250927_202209-1-scaled.jpg
ORGANIZER;CN="Stiftung Konzeptuelle Kunst":MAILTO:info@skk-soest.de
END:VEVENT
END:VCALENDAR